BEGIN:VCALENDAR
VERSION:2.0
PRODID:-//Note et Bien - Chœur et Orchestre - ECPv6.15.20//NONSGML v1.0//EN
CALSCALE:GREGORIAN
METHOD:PUBLISH
X-ORIGINAL-URL:https://www.note-et-bien.org
X-WR-CALDESC:Évènements pour Note et Bien - Chœur et Orchestre
REFRESH-INTERVAL;VALUE=DURATION:PT1H
X-Robots-Tag:noindex
X-PUBLISHED-TTL:PT1H
BEGIN:VTIMEZONE
TZID:Europe/Paris
BEGIN:DAYLIGHT
TZOFFSETFROM:+0100
TZOFFSETTO:+0200
TZNAME:CEST
DTSTART:20180325T010000
END:DAYLIGHT
BEGIN:STANDARD
TZOFFSETFROM:+0200
TZOFFSETTO:+0100
TZNAME:CET
DTSTART:20181028T010000
END:STANDARD
BEGIN:DAYLIGHT
TZOFFSETFROM:+0100
TZOFFSETTO:+0200
TZNAME:CEST
DTSTART:20190331T010000
END:DAYLIGHT
BEGIN:STANDARD
TZOFFSETFROM:+0200
TZOFFSETTO:+0100
TZNAME:CET
DTSTART:20191027T010000
END:STANDARD
BEGIN:DAYLIGHT
TZOFFSETFROM:+0100
TZOFFSETTO:+0200
TZNAME:CEST
DTSTART:20200329T010000
END:DAYLIGHT
BEGIN:STANDARD
TZOFFSETFROM:+0200
TZOFFSETTO:+0100
TZNAME:CET
DTSTART:20201025T010000
END:STANDARD
END:VTIMEZONE
BEGIN:VEVENT
DTSTART;TZID=Europe/Paris:20191012T210000
DTEND;TZID=Europe/Paris:20191012T210000
DTSTAMP:20260424T144804
CREATED:20190911T201833Z
LAST-MODIFIED:20190911T201833Z
UID:11763-1570914000-1570914000@www.note-et-bien.org
SUMMARY:Note et Bien - Concert du 12 octobre 2019
DESCRIPTION:WAGNER – Extraits symphoniques et vocaux tirés de Tannhäuser\, Lohengrin\, Tristan et Isolde\, La Walkyrie\, Siegfried\, Le Crépuscule des dieux. \nAvec\nReine-Grâce Oth-Essiké\, soprane\nOrchestre Note et Bien\nJérôme Hilaire\, direction \nConcert à participation libre au profit de \nPartenaires \nArtisans de « l’Humanitaire » bénévoles\, depuis 30 ans au service notamment de 350 enfants des rues de Dacca\, où notre Foyer doit VITE recruter un prof d’informatique \n 
URL:https://www.note-et-bien.org/event/note-et-bien-concert-du-12-octobre-2019/
CATEGORIES:concerts
END:VEVENT
END:VCALENDAR