BEGIN:VCALENDAR
VERSION:2.0
PRODID:-//Note et Bien - Chœur et Orchestre - ECPv6.15.20//NONSGML v1.0//EN
CALSCALE:GREGORIAN
METHOD:PUBLISH
X-ORIGINAL-URL:https://www.note-et-bien.org
X-WR-CALDESC:Évènements pour Note et Bien - Chœur et Orchestre
REFRESH-INTERVAL;VALUE=DURATION:PT1H
X-Robots-Tag:noindex
X-PUBLISHED-TTL:PT1H
BEGIN:VTIMEZONE
TZID:Europe/Paris
BEGIN:DAYLIGHT
TZOFFSETFROM:+0100
TZOFFSETTO:+0200
TZNAME:CEST
DTSTART:20180325T010000
END:DAYLIGHT
BEGIN:STANDARD
TZOFFSETFROM:+0200
TZOFFSETTO:+0100
TZNAME:CET
DTSTART:20181028T010000
END:STANDARD
BEGIN:DAYLIGHT
TZOFFSETFROM:+0100
TZOFFSETTO:+0200
TZNAME:CEST
DTSTART:20190331T010000
END:DAYLIGHT
BEGIN:STANDARD
TZOFFSETFROM:+0200
TZOFFSETTO:+0100
TZNAME:CET
DTSTART:20191027T010000
END:STANDARD
BEGIN:DAYLIGHT
TZOFFSETFROM:+0100
TZOFFSETTO:+0200
TZNAME:CEST
DTSTART:20200329T010000
END:DAYLIGHT
BEGIN:STANDARD
TZOFFSETFROM:+0200
TZOFFSETTO:+0100
TZNAME:CET
DTSTART:20201025T010000
END:STANDARD
END:VTIMEZONE
BEGIN:VEVENT
DTSTART;TZID=Europe/Paris:20191214T210000
DTEND;TZID=Europe/Paris:20191214T230000
DTSTAMP:20260424T122713
CREATED:20191118T160739Z
LAST-MODIFIED:20191118T160739Z
UID:12168-1576357200-1576364400@www.note-et-bien.org
SUMMARY:Note et Bien - concert du 14 décembre 2019
DESCRIPTION:Le Chœur et l’Orchestre Note et Bien vous proposent l’opérette \nOFFENBACH – Les Brigands \nMise en espace : Marie-Noëlle Semet\nDirection : Marc Desmons\nChef de chœur : Denis Thuillier \nSamedi 14 décembre à 21 heures – Eglise Saint-Denys-du-Saint-Sacrement\, 68 Rue de Turenne\, Paris 3ème \nAvec\nMarie Cordier\, Fiorella\, soprano\nCécile de Kervasdoué\, Fragoletto\, mezzo-soprano\nFrançois Neveu\, Falsacappa\, ténor\nEtienne Combier\, Pietro\, ténor\nMaxime Froissant\, le duc de Mantoue\, ténor\nHugo Tranchant\, le baron de Campo-Tasso\, ténor\nAlexandre Artemenko\, le chef des carabiniers\, basse\nMadjid Mohia\, le comte de Gloria-Cassis\, ténor\nClémence Garde\, la princesse de Grenade\, soprano\nChristophe Raynal\, le caissier\, ténor \nParticipation libre au profit de :\n \nMarfans\nOrganiser une rencontre annuelle en Mars 2020 pour les familles touchées par cette maladie rare. \n 
URL:https://www.note-et-bien.org/event/note-et-bien-concert-du-14-decembre-2019/
END:VEVENT
END:VCALENDAR