BEGIN:VCALENDAR
VERSION:2.0
PRODID:-//Note et Bien - Chœur et Orchestre - ECPv6.15.20//NONSGML v1.0//EN
CALSCALE:GREGORIAN
METHOD:PUBLISH
X-WR-CALNAME:Note et Bien - Chœur et Orchestre
X-ORIGINAL-URL:https://www.note-et-bien.org
X-WR-CALDESC:Évènements pour Note et Bien - Chœur et Orchestre
REFRESH-INTERVAL;VALUE=DURATION:PT1H
X-Robots-Tag:noindex
X-PUBLISHED-TTL:PT1H
BEGIN:VTIMEZONE
TZID:Europe/Paris
BEGIN:DAYLIGHT
TZOFFSETFROM:+0100
TZOFFSETTO:+0200
TZNAME:CEST
DTSTART:20190331T010000
END:DAYLIGHT
BEGIN:STANDARD
TZOFFSETFROM:+0200
TZOFFSETTO:+0100
TZNAME:CET
DTSTART:20191027T010000
END:STANDARD
BEGIN:DAYLIGHT
TZOFFSETFROM:+0100
TZOFFSETTO:+0200
TZNAME:CEST
DTSTART:20200329T010000
END:DAYLIGHT
BEGIN:STANDARD
TZOFFSETFROM:+0200
TZOFFSETTO:+0100
TZNAME:CET
DTSTART:20201025T010000
END:STANDARD
BEGIN:DAYLIGHT
TZOFFSETFROM:+0100
TZOFFSETTO:+0200
TZNAME:CEST
DTSTART:20210328T010000
END:DAYLIGHT
BEGIN:STANDARD
TZOFFSETFROM:+0200
TZOFFSETTO:+0100
TZNAME:CET
DTSTART:20211031T010000
END:STANDARD
END:VTIMEZONE
BEGIN:VEVENT
DTSTART;TZID=Europe/Paris:20201010T210000
DTEND;TZID=Europe/Paris:20201010T230000
DTSTAMP:20260424T013437
CREATED:20200927T192819Z
LAST-MODIFIED:20200927T192819Z
UID:13759-1602363600-1602370800@www.note-et-bien.org
SUMMARY:Note et Bien - concert du 10 octobre 2020
DESCRIPTION:“Shakespeare songs” pour chœur a capella\nSuites de Carmen de Georges Bizet\nDanse macabre de Camille Saint-Saëns\nCentral Park de Benoit Gaspard \nChœur et Orchestre Note et Bien\nDirection du chœur : Denis Thuillier\nDirection de l’orchestre : Marc-Olivier de Nattes \nPOUR RESERVER POUR LE CONCERT DU SAMEDI 10…
URL:https://www.note-et-bien.org/event/note-et-bien-concert-du-10-octobre-2020/
CATEGORIES:concerts
END:VEVENT
END:VCALENDAR