BEGIN:VCALENDAR
VERSION:2.0
PRODID:-//Note et Bien - Chœur et Orchestre - ECPv6.15.20//NONSGML v1.0//EN
CALSCALE:GREGORIAN
METHOD:PUBLISH
X-ORIGINAL-URL:https://www.note-et-bien.org
X-WR-CALDESC:Évènements pour Note et Bien - Chœur et Orchestre
REFRESH-INTERVAL;VALUE=DURATION:PT1H
X-Robots-Tag:noindex
X-PUBLISHED-TTL:PT1H
BEGIN:VTIMEZONE
TZID:Europe/Paris
BEGIN:DAYLIGHT
TZOFFSETFROM:+0100
TZOFFSETTO:+0200
TZNAME:CEST
DTSTART:20200329T010000
END:DAYLIGHT
BEGIN:STANDARD
TZOFFSETFROM:+0200
TZOFFSETTO:+0100
TZNAME:CET
DTSTART:20201025T010000
END:STANDARD
BEGIN:DAYLIGHT
TZOFFSETFROM:+0100
TZOFFSETTO:+0200
TZNAME:CEST
DTSTART:20210328T010000
END:DAYLIGHT
BEGIN:STANDARD
TZOFFSETFROM:+0200
TZOFFSETTO:+0100
TZNAME:CET
DTSTART:20211031T010000
END:STANDARD
BEGIN:DAYLIGHT
TZOFFSETFROM:+0100
TZOFFSETTO:+0200
TZNAME:CEST
DTSTART:20220327T010000
END:DAYLIGHT
BEGIN:STANDARD
TZOFFSETFROM:+0200
TZOFFSETTO:+0100
TZNAME:CET
DTSTART:20221030T010000
END:STANDARD
END:VTIMEZONE
BEGIN:VEVENT
DTSTART;TZID=Europe/Paris:20211010T160000
DTEND;TZID=Europe/Paris:20211010T173000
DTSTAMP:20260423T092948
CREATED:20210924T174949Z
LAST-MODIFIED:20210924T174949Z
UID:14589-1633881600-1633887000@www.note-et-bien.org
SUMMARY:Note et Bien - Concert du 10 octobre 2021
DESCRIPTION:Concert. \nAu programme :\n \nOuverture Leonore III de Ludwig van Beethoven \nSymphonie n°4 de Johannes Brahms \nOrchestre Note et Bien \nDirection : Johannes LE PENNEC \n  \nConcert à participation libre au profit de l’association \nAdailes – Au profit des enfants défavorisés de Tarija en Bolivie\, pour l’achat de matériel pour une cantine solidaire
URL:https://www.note-et-bien.org/event/note-et-bien-concert-du-10-octobre-2021/
CATEGORIES:concerts
END:VEVENT
END:VCALENDAR