BEGIN:VCALENDAR
VERSION:2.0
PRODID:-//Note et Bien - Chœur et Orchestre - ECPv6.15.20//NONSGML v1.0//EN
CALSCALE:GREGORIAN
METHOD:PUBLISH
X-WR-CALNAME:Note et Bien - Chœur et Orchestre
X-ORIGINAL-URL:https://www.note-et-bien.org
X-WR-CALDESC:Évènements pour Note et Bien - Chœur et Orchestre
REFRESH-INTERVAL;VALUE=DURATION:PT1H
X-Robots-Tag:noindex
X-PUBLISHED-TTL:PT1H
BEGIN:VTIMEZONE
TZID:Europe/Paris
BEGIN:DAYLIGHT
TZOFFSETFROM:+0100
TZOFFSETTO:+0200
TZNAME:CEST
DTSTART:20210328T010000
END:DAYLIGHT
BEGIN:STANDARD
TZOFFSETFROM:+0200
TZOFFSETTO:+0100
TZNAME:CET
DTSTART:20211031T010000
END:STANDARD
BEGIN:DAYLIGHT
TZOFFSETFROM:+0100
TZOFFSETTO:+0200
TZNAME:CEST
DTSTART:20220327T010000
END:DAYLIGHT
BEGIN:STANDARD
TZOFFSETFROM:+0200
TZOFFSETTO:+0100
TZNAME:CET
DTSTART:20221030T010000
END:STANDARD
BEGIN:DAYLIGHT
TZOFFSETFROM:+0100
TZOFFSETTO:+0200
TZNAME:CEST
DTSTART:20230326T010000
END:DAYLIGHT
BEGIN:STANDARD
TZOFFSETFROM:+0200
TZOFFSETTO:+0100
TZNAME:CET
DTSTART:20231029T010000
END:STANDARD
END:VTIMEZONE
BEGIN:VEVENT
DTSTART;TZID=Europe/Paris:20220619T160000
DTEND;TZID=Europe/Paris:20220619T180000
DTSTAMP:20260423T001111
CREATED:20220523T161506Z
LAST-MODIFIED:20220523T161506Z
UID:15886-1655654400-1655661600@www.note-et-bien.org
SUMMARY:Note et Bien - Concert du 19 juin 2022
DESCRIPTION:Concert\nChœurs a cappella de Francis Poulenc\nSuite de Pulcinella d’Igor Stravinsky\nLe Bœuf sur le toit de Darius Milhaud \nChœur et Orchestre Note et Bien\nDenis Thuillier\, direction du chœur\nRémi Durupt\, direction de l’orchestre
URL:https://www.note-et-bien.org/event/note-et-bien-concert-du-19-juin-2022/
CATEGORIES:concerts
END:VEVENT
END:VCALENDAR