BEGIN:VCALENDAR
VERSION:2.0
PRODID:-//Note et Bien - Chœur et Orchestre - ECPv6.15.20//NONSGML v1.0//EN
CALSCALE:GREGORIAN
METHOD:PUBLISH
X-WR-CALNAME:Note et Bien - Chœur et Orchestre
X-ORIGINAL-URL:https://www.note-et-bien.org
X-WR-CALDESC:Évènements pour Note et Bien - Chœur et Orchestre
REFRESH-INTERVAL;VALUE=DURATION:PT1H
X-Robots-Tag:noindex
X-PUBLISHED-TTL:PT1H
BEGIN:VTIMEZONE
TZID:Europe/Paris
BEGIN:DAYLIGHT
TZOFFSETFROM:+0100
TZOFFSETTO:+0200
TZNAME:CEST
DTSTART:20220327T010000
END:DAYLIGHT
BEGIN:STANDARD
TZOFFSETFROM:+0200
TZOFFSETTO:+0100
TZNAME:CET
DTSTART:20221030T010000
END:STANDARD
BEGIN:DAYLIGHT
TZOFFSETFROM:+0100
TZOFFSETTO:+0200
TZNAME:CEST
DTSTART:20230326T010000
END:DAYLIGHT
BEGIN:STANDARD
TZOFFSETFROM:+0200
TZOFFSETTO:+0100
TZNAME:CET
DTSTART:20231029T010000
END:STANDARD
BEGIN:DAYLIGHT
TZOFFSETFROM:+0100
TZOFFSETTO:+0200
TZNAME:CEST
DTSTART:20240331T010000
END:DAYLIGHT
BEGIN:STANDARD
TZOFFSETFROM:+0200
TZOFFSETTO:+0100
TZNAME:CET
DTSTART:20241027T010000
END:STANDARD
END:VTIMEZONE
BEGIN:VEVENT
DTSTART;TZID=Europe/Paris:20231216T203000
DTEND;TZID=Europe/Paris:20231216T223000
DTSTAMP:20260422T002201
CREATED:20231120T205737Z
LAST-MODIFIED:20231120T205737Z
UID:17739-1702758600-1702765800@www.note-et-bien.org
SUMMARY:Note et Bien - Concert du 16 décembre 2023
DESCRIPTION:SCHUBERT \nGesang der Geister über den Wassern\n(chant des esprits sur les eaux)\npour chœur d’hommes\, altos\, violoncelles\, contrebasse \nDEBUSSY\nNocturnes \nNIELSEN\nSøvnen\, opus 18\, pour chœur et orchestre \nCHŒUR ET ORCHESTRE NOTE ET BIEN \nFrançois PINEL\, direction\nDenis THUILLIER\, chef de chœur \nParticipation libre au profit de Tutti passeurs d’arts – Achat de nouveaux instruments de musique pour l’orchestre d’enfants Tutti Saint Vincent à Paris 10e
URL:https://www.note-et-bien.org/event/note-et-bien-concert-du-16-decembre-2023/
CATEGORIES:choeur,concerts,orchestre
END:VEVENT
END:VCALENDAR