BEGIN:VCALENDAR
VERSION:2.0
PRODID:-//Note et Bien - Chœur et Orchestre - ECPv6.15.20//NONSGML v1.0//EN
CALSCALE:GREGORIAN
METHOD:PUBLISH
X-WR-CALNAME:Note et Bien - Chœur et Orchestre
X-ORIGINAL-URL:https://www.note-et-bien.org
X-WR-CALDESC:Évènements pour Note et Bien - Chœur et Orchestre
REFRESH-INTERVAL;VALUE=DURATION:PT1H
X-Robots-Tag:noindex
X-PUBLISHED-TTL:PT1H
BEGIN:VTIMEZONE
TZID:Europe/Paris
BEGIN:DAYLIGHT
TZOFFSETFROM:+0100
TZOFFSETTO:+0200
TZNAME:CEST
DTSTART:20230326T010000
END:DAYLIGHT
BEGIN:STANDARD
TZOFFSETFROM:+0200
TZOFFSETTO:+0100
TZNAME:CET
DTSTART:20231029T010000
END:STANDARD
BEGIN:DAYLIGHT
TZOFFSETFROM:+0100
TZOFFSETTO:+0200
TZNAME:CEST
DTSTART:20240331T010000
END:DAYLIGHT
BEGIN:STANDARD
TZOFFSETFROM:+0200
TZOFFSETTO:+0100
TZNAME:CET
DTSTART:20241027T010000
END:STANDARD
BEGIN:DAYLIGHT
TZOFFSETFROM:+0100
TZOFFSETTO:+0200
TZNAME:CEST
DTSTART:20250330T010000
END:DAYLIGHT
BEGIN:STANDARD
TZOFFSETFROM:+0200
TZOFFSETTO:+0100
TZNAME:CET
DTSTART:20251026T010000
END:STANDARD
END:VTIMEZONE
BEGIN:VEVENT
DTSTART;TZID=Europe/Paris:20240616T160000
DTEND;TZID=Europe/Paris:20240616T180000
DTSTAMP:20260421T161841
CREATED:20240428T151505Z
LAST-MODIFIED:20240428T151505Z
UID:18471-1718553600-1718560800@www.note-et-bien.org
SUMMARY:Note et Bien - Concert du 16 juin 2024
DESCRIPTION:Francis POULENC\nGloria \nCamille SAINT-SAËNS\nSymphonie n°3 « avec orgue » \nLaura HOLM\, soprano\nJulien LUCQUIAUD\, orgue \n\nChœur et Orchestre NOTE ET BIEN\nJérôme HILAIRE\, direction\nDenis THUILLIER\, chef de chœur \nParticipation libre au profit de \nLes Jours Heureux – Organisation d’un week-end évasion pour les résidents orphelins ou démunis des foyers des Jours Heureux
URL:https://www.note-et-bien.org/event/note-et-bien-concert-du-16-juin-2024/
CATEGORIES:concerts
END:VEVENT
END:VCALENDAR