BEGIN:VCALENDAR
VERSION:2.0
PRODID:-//Note et Bien - Chœur et Orchestre - ECPv6.15.20//NONSGML v1.0//EN
CALSCALE:GREGORIAN
METHOD:PUBLISH
X-WR-CALNAME:Note et Bien - Chœur et Orchestre
X-ORIGINAL-URL:https://www.note-et-bien.org
X-WR-CALDESC:Évènements pour Note et Bien - Chœur et Orchestre
REFRESH-INTERVAL;VALUE=DURATION:PT1H
X-Robots-Tag:noindex
X-PUBLISHED-TTL:PT1H
BEGIN:VTIMEZONE
TZID:Europe/Paris
BEGIN:DAYLIGHT
TZOFFSETFROM:+0100
TZOFFSETTO:+0200
TZNAME:CEST
DTSTART:20170326T010000
END:DAYLIGHT
BEGIN:STANDARD
TZOFFSETFROM:+0200
TZOFFSETTO:+0100
TZNAME:CET
DTSTART:20171029T010000
END:STANDARD
BEGIN:DAYLIGHT
TZOFFSETFROM:+0100
TZOFFSETTO:+0200
TZNAME:CEST
DTSTART:20180325T010000
END:DAYLIGHT
BEGIN:STANDARD
TZOFFSETFROM:+0200
TZOFFSETTO:+0100
TZNAME:CET
DTSTART:20181028T010000
END:STANDARD
BEGIN:DAYLIGHT
TZOFFSETFROM:+0100
TZOFFSETTO:+0200
TZNAME:CEST
DTSTART:20190331T010000
END:DAYLIGHT
BEGIN:STANDARD
TZOFFSETFROM:+0200
TZOFFSETTO:+0100
TZNAME:CET
DTSTART:20191027T010000
END:STANDARD
END:VTIMEZONE
BEGIN:VEVENT
DTSTART;TZID=Europe/Paris:20181213T210000
DTEND;TZID=Europe/Paris:20181213T230000
DTSTAMP:20260425T002549
CREATED:20181117T075535Z
LAST-MODIFIED:20181117T075535Z
UID:7487-1544734800-1544742000@www.note-et-bien.org
SUMMARY:Note et Bien – Concert du 13 décembre 2018
DESCRIPTION:E. Lalo : Concerto pour violoncelle\nG. Fauré : Pavane\, Les Djinns\nG. Fauré : Requiem \navec Raphaël Perraud\, violoncelle\, Reine-Grace Oth-Essiké\, soprano et Franck Lunion\, baryton\n \nChœur et Orchestre Note et Bien\nsous la direction de Marc-Olivier de Nattes\nchef de chœur : Denis Thuillier
URL:https://www.note-et-bien.org/event/note-et-bien-concert-du-13-decembre-2018/
END:VEVENT
BEGIN:VEVENT
DTSTART;TZID=Europe/Paris:20181215T210000
DTEND;TZID=Europe/Paris:20181215T230000
DTSTAMP:20260425T002549
CREATED:20181117T075736Z
LAST-MODIFIED:20181117T075736Z
UID:7489-1544907600-1544914800@www.note-et-bien.org
SUMMARY:Note et Bien – Concert du 15 décembre 2018
DESCRIPTION:E. Lalo : Concerto pour violoncelle\nG. Fauré : Pavane\, Les Djinns\nG. Fauré : Requiem \navec Raphaël Perraud\, violoncelle\, Reine-Grace Oth-Essiké\, soprano et Franck Lunion\, baryton\n \nChœur et Orchestre Note et Bien\nsous la direction de Marc-Olivier de Nattes\nchef de chœur : Denis Thuillier
URL:https://www.note-et-bien.org/event/note-et-bien-concert-du-15-decembre-2018/
END:VEVENT
BEGIN:VEVENT
DTSTART;TZID=Europe/Paris:20181216T170000
DTEND;TZID=Europe/Paris:20181216T190000
DTSTAMP:20260425T002549
CREATED:20181117T075842Z
LAST-MODIFIED:20181117T075842Z
UID:7491-1544979600-1544986800@www.note-et-bien.org
SUMMARY:Note et Bien – Concert du 16 décembre 2018
DESCRIPTION:E. Lalo : Concerto pour violoncelle\nG. Fauré : Pavane\, Les Djinns\nG. Fauré : Requiem \navec Raphaël Perraud\, violoncelle\, Reine-Grace Oth-Essiké\, soprano et Franck Lunion\, baryton\n \nChœur et Orchestre Note et Bien\nsous la direction de Marc-Olivier de Nattes\nchef de chœur : Denis Thuillier
URL:https://www.note-et-bien.org/event/note-et-bien-concert-du-16-decembre-2018/
END:VEVENT
END:VCALENDAR