BEGIN:VCALENDAR
VERSION:2.0
PRODID:-//Note et Bien - Chœur et Orchestre - ECPv6.15.20//NONSGML v1.0//EN
CALSCALE:GREGORIAN
METHOD:PUBLISH
X-WR-CALNAME:Note et Bien - Chœur et Orchestre
X-ORIGINAL-URL:https://www.note-et-bien.org
X-WR-CALDESC:Évènements pour Note et Bien - Chœur et Orchestre
REFRESH-INTERVAL;VALUE=DURATION:PT1H
X-Robots-Tag:noindex
X-PUBLISHED-TTL:PT1H
BEGIN:VTIMEZONE
TZID:Europe/Paris
BEGIN:DAYLIGHT
TZOFFSETFROM:+0100
TZOFFSETTO:+0200
TZNAME:CEST
DTSTART:20180325T010000
END:DAYLIGHT
BEGIN:STANDARD
TZOFFSETFROM:+0200
TZOFFSETTO:+0100
TZNAME:CET
DTSTART:20181028T010000
END:STANDARD
BEGIN:DAYLIGHT
TZOFFSETFROM:+0100
TZOFFSETTO:+0200
TZNAME:CEST
DTSTART:20190331T010000
END:DAYLIGHT
BEGIN:STANDARD
TZOFFSETFROM:+0200
TZOFFSETTO:+0100
TZNAME:CET
DTSTART:20191027T010000
END:STANDARD
BEGIN:DAYLIGHT
TZOFFSETFROM:+0100
TZOFFSETTO:+0200
TZNAME:CEST
DTSTART:20200329T010000
END:DAYLIGHT
BEGIN:STANDARD
TZOFFSETFROM:+0200
TZOFFSETTO:+0100
TZNAME:CET
DTSTART:20201025T010000
END:STANDARD
END:VTIMEZONE
BEGIN:VEVENT
DTSTART;TZID=Europe/Paris:20190411T210000
DTEND;TZID=Europe/Paris:20190411T233000
DTSTAMP:20260424T201933
CREATED:20190125T171441Z
LAST-MODIFIED:20190125T171441Z
UID:10490-1555016400-1555025400@www.note-et-bien.org
SUMMARY:Note et Bien - Concert du 11 avril 2019
DESCRIPTION:Chœurs russes a capella\nD. Chostakovitch : Symphonie n°11 \nChœur et Orchestre Note et Bien\nDirection du chœur : Denis Thuillier\nDirection de l’orchestre : Vsevolod Polonsky \nConcert à participation libre au profit de\nCoup de Pouce Nord-Sud : Financer un foyer à gaz et un moulin à grains pour lutter contre la désertification à Gorin (Burkina Faso) \n \n 
URL:https://www.note-et-bien.org/event/note-et-bien-concert-du-11-avril-2019/
CATEGORIES:concerts
END:VEVENT
BEGIN:VEVENT
DTSTART;TZID=Europe/Paris:20190413T210000
DTEND;TZID=Europe/Paris:20190413T233000
DTSTAMP:20260424T201933
CREATED:20190125T171905Z
LAST-MODIFIED:20190125T171905Z
UID:10494-1555189200-1555198200@www.note-et-bien.org
SUMMARY:Note et Bien - Concert du 13 avril 2019
DESCRIPTION:Chœurs russes a capella\nD. Chostakovitch : Symphonie n°11 \nChœur et Orchestre Note et Bien\nDirection du chœur : Denis Thuillier\nDirection de l’orchestre : Vsevolod Polonsky \nConcert à participation libre au profit de\nScribe : Financement des bourses d’études de jeunes du Haut-Karabagh en difficulté.
URL:https://www.note-et-bien.org/event/note-et-bien-concert-du-13-avril-2019/
CATEGORIES:concerts
END:VEVENT
BEGIN:VEVENT
DTSTART;TZID=Europe/Paris:20190414T153000
DTEND;TZID=Europe/Paris:20190414T173000
DTSTAMP:20260424T201933
CREATED:20190125T172556Z
LAST-MODIFIED:20190125T172556Z
UID:10503-1555255800-1555263000@www.note-et-bien.org
SUMMARY:Note et Bien - Concert du 14 avril 2019
DESCRIPTION:Chœurs russes a capella\nD. Chostakovitch : Symphonie n°11 \nChœur et Orchestre Note et Bien\nDirection du chœur : Denis Thuillier\nDirection de l’orchestre : Vsevolod Polonsky \nConcert à participation libre au profit de \nTahaddi France Offrir une paire de chaussures aux enfants réfugiés syriens et gitans libanais. \n \n 
URL:https://www.note-et-bien.org/event/note-et-bien-concert-du-14-avril-2019/
CATEGORIES:concerts
END:VEVENT
END:VCALENDAR