BEGIN:VCALENDAR
VERSION:2.0
PRODID:-//Note et Bien - Chœur et Orchestre - ECPv6.15.20//NONSGML v1.0//EN
CALSCALE:GREGORIAN
METHOD:PUBLISH
X-ORIGINAL-URL:https://www.note-et-bien.org
X-WR-CALDESC:Évènements pour Note et Bien - Chœur et Orchestre
REFRESH-INTERVAL;VALUE=DURATION:PT1H
X-Robots-Tag:noindex
X-PUBLISHED-TTL:PT1H
BEGIN:VTIMEZONE
TZID:Europe/Paris
BEGIN:DAYLIGHT
TZOFFSETFROM:+0100
TZOFFSETTO:+0200
TZNAME:CEST
DTSTART:20180325T010000
END:DAYLIGHT
BEGIN:STANDARD
TZOFFSETFROM:+0200
TZOFFSETTO:+0100
TZNAME:CET
DTSTART:20181028T010000
END:STANDARD
BEGIN:DAYLIGHT
TZOFFSETFROM:+0100
TZOFFSETTO:+0200
TZNAME:CEST
DTSTART:20190331T010000
END:DAYLIGHT
BEGIN:STANDARD
TZOFFSETFROM:+0200
TZOFFSETTO:+0100
TZNAME:CET
DTSTART:20191027T010000
END:STANDARD
BEGIN:DAYLIGHT
TZOFFSETFROM:+0100
TZOFFSETTO:+0200
TZNAME:CEST
DTSTART:20200329T010000
END:DAYLIGHT
BEGIN:STANDARD
TZOFFSETFROM:+0200
TZOFFSETTO:+0100
TZNAME:CET
DTSTART:20201025T010000
END:STANDARD
END:VTIMEZONE
BEGIN:VEVENT
DTSTART;TZID=Europe/Paris:20190627T210000
DTEND;TZID=Europe/Paris:20190627T230000
DTSTAMP:20260424T181712
CREATED:20190519T140843Z
LAST-MODIFIED:20190519T140843Z
UID:11059-1561669200-1561676400@www.note-et-bien.org
SUMMARY:Note et Bien - Concert du 27 juin 2019
DESCRIPTION:W.A. Mozart : Idomeneo\, Re di Creta \n\nRaphaël Jardin\, ténor\, Idomeneo\nLaura Holm\, soprane\, Ilia\nCyrielle Ndjiki\, soprane\, Elettra\nCamille Glas\, mezzo-soprane\, Idamante\nLoïc Paulin\, ténor\, Arbace\, Le Grand Prêtre\nJean-Christophe Rousseau\, baryton-basse\, La Voix \n\nChœur et Orchestre Note et Bien\nChef de chœur : Denis Thuillier\nDirection : Thibault Back de Surany\n \nConcert à participation libre au profit de \nRotary Club Paris Avenir Offrir des équipements de première urgence aux nouveaux-nés de familles démunies à la maternité de Bichat – Claude Bernard (AP-HP) \n[dg]
URL:https://www.note-et-bien.org/event/note-et-bien-concert-du-27-juin-2019/
CATEGORIES:concerts
END:VEVENT
BEGIN:VEVENT
DTSTART;TZID=Europe/Paris:20190629T210000
DTEND;TZID=Europe/Paris:20190629T230000
DTSTAMP:20260424T181712
CREATED:20190519T141213Z
LAST-MODIFIED:20190519T141213Z
UID:11063-1561842000-1561849200@www.note-et-bien.org
SUMMARY:Note et Bien - Concert du 29 juin 2019
DESCRIPTION:W.A. Mozart : Idomeneo\, Re di Creta\n \n\nRaphaël Jardin\, ténor\, Idomeneo\nLaura Holm\, soprane\, Ilia\nCyrielle Ndjiki\, soprane\, Elettra\nCamille Glas\, mezzo-soprane\, Idamante\nLoïc Paulin\, ténor\, Arbace\, Le Grand Prêtre\nAnge Christian\, basse\, La Voix \n\nChœur et Orchestre Note et Bien\nChef de chœur : Denis Thuillier\nDirection : Thibault Back de Surany\n \nConcert à participation libre au profit de \n  \nACAPEL Parrainer les études et favoriser l’accès à l’art et à la culture pour les enfants au Liban
URL:https://www.note-et-bien.org/event/note-et-bien-concert-du-29-juin-2019/
CATEGORIES:concerts
END:VEVENT
BEGIN:VEVENT
DTSTART;TZID=Europe/Paris:20190630T153000
DTEND;TZID=Europe/Paris:20190630T180000
DTSTAMP:20260424T181712
CREATED:20190519T141457Z
LAST-MODIFIED:20190519T141457Z
UID:11066-1561908600-1561917600@www.note-et-bien.org
SUMMARY:Note et Bien - Concert du 30 juin 2019
DESCRIPTION:W.A. Mozart : Idomeneo\, Re di Creta\n \n\nRaphaël Jardin\, ténor\, Idomeneo\nLaura Holm\, soprane\, Ilia\nCyrielle Ndjiki\, soprane\, Elettra\nCamille Glas\, mezzo-soprane\, Idamante\nLoïc Paulin\, ténor\, Arbace\, Le Grand Prêtre\nAnge Christian\, basse\, La Voix \n\nChœur et Orchestre Note et Bien\nChef de chœur : Denis Thuillier\nDirection : Thibault Back de Surany\n \nConcert à participation libre au profit de \nASSAD (Association de Soutien et Services d’Aide À Domicile) \nAchat de jeux d’animation pour des temps de répit avec des personnes atteintes de maladies dégénératives
URL:https://www.note-et-bien.org/event/note-et-bien-concert-du-30-juin-2019/
CATEGORIES:concerts
END:VEVENT
END:VCALENDAR