BEGIN:VCALENDAR
VERSION:2.0
PRODID:-//Note et Bien - Chœur et Orchestre - ECPv6.15.20//NONSGML v1.0//EN
CALSCALE:GREGORIAN
METHOD:PUBLISH
X-WR-CALNAME:Note et Bien - Chœur et Orchestre
X-ORIGINAL-URL:https://www.note-et-bien.org
X-WR-CALDESC:Évènements pour Note et Bien - Chœur et Orchestre
REFRESH-INTERVAL;VALUE=DURATION:PT1H
X-Robots-Tag:noindex
X-PUBLISHED-TTL:PT1H
BEGIN:VTIMEZONE
TZID:Europe/Paris
BEGIN:DAYLIGHT
TZOFFSETFROM:+0100
TZOFFSETTO:+0200
TZNAME:CEST
DTSTART:20200329T010000
END:DAYLIGHT
BEGIN:STANDARD
TZOFFSETFROM:+0200
TZOFFSETTO:+0100
TZNAME:CET
DTSTART:20201025T010000
END:STANDARD
BEGIN:DAYLIGHT
TZOFFSETFROM:+0100
TZOFFSETTO:+0200
TZNAME:CEST
DTSTART:20210328T010000
END:DAYLIGHT
BEGIN:STANDARD
TZOFFSETFROM:+0200
TZOFFSETTO:+0100
TZNAME:CET
DTSTART:20211031T010000
END:STANDARD
BEGIN:DAYLIGHT
TZOFFSETFROM:+0100
TZOFFSETTO:+0200
TZNAME:CEST
DTSTART:20220327T010000
END:DAYLIGHT
BEGIN:STANDARD
TZOFFSETFROM:+0200
TZOFFSETTO:+0100
TZNAME:CET
DTSTART:20221030T010000
END:STANDARD
END:VTIMEZONE
BEGIN:VEVENT
DTSTART;TZID=Europe/Paris:20210610T203000
DTEND;TZID=Europe/Paris:20210610T223000
DTSTAMP:20260423T132541
CREATED:20210527T204227Z
LAST-MODIFIED:20210527T204227Z
UID:14246-1623357000-1623364200@www.note-et-bien.org
SUMMARY:Note et Bien - concert du 10 juin 2021
DESCRIPTION:“Dualité” œuvres pour chœur a capella\nSuite persane pour instruments à vents de André Caplet\nAdagio pour cordes de Samuel Barber\nSuite Holberg op.40 pour cordes de Edvard Grieg \nChœur et Orchestre Note et Bien\nDirection du chœur : Denis Thuillier\nDirection de l’orchestre à cordes : Johannes Le Pennec \nRÉSERVER POUR LE CONCERT DU JEUDI 10 JUIN…
URL:https://www.note-et-bien.org/event/note-et-bien-concert-du-10-juin-2021/
CATEGORIES:concerts
END:VEVENT
BEGIN:VEVENT
DTSTART;TZID=Europe/Paris:20210612T203000
DTEND;TZID=Europe/Paris:20210612T223000
DTSTAMP:20260423T132541
CREATED:20210527T204625Z
LAST-MODIFIED:20210527T204625Z
UID:14250-1623529800-1623537000@www.note-et-bien.org
SUMMARY:Note et Bien - concert du 12 juin 2021
DESCRIPTION:Suite persane pour instruments à vents de André Caplet\nAdagio pour cordes de Samuel Barber\nSuite Holberg op.40 pour cordes de Edvard Grieg \n (Malheureusement\, le programme “Dualité”\, œuvres pour chœur a capella ne pourra pas être interprété le samedi\, veuillez nous en excuser)\n \nOrchestre Note et Bien\nDirection des cordes : Johannes Le Pennec \nRÉSERVER POUR LE CONCERT DU SAMEDI 12 JUIN…
URL:https://www.note-et-bien.org/event/note-et-bien-concert-du-12-juin-2021/
CATEGORIES:concerts
END:VEVENT
BEGIN:VEVENT
DTSTART;TZID=Europe/Paris:20210613T150000
DTEND;TZID=Europe/Paris:20210613T173000
DTSTAMP:20260423T132541
CREATED:20210527T204850Z
LAST-MODIFIED:20210527T204850Z
UID:14252-1623596400-1623605400@www.note-et-bien.org
SUMMARY:Note et Bien - concert du 13 juin 2021
DESCRIPTION:“Dualité” œuvres pour chœur a capella\nSuite persane pour instruments à vents de André Caplet\nAdagio pour cordes de Samuel Barber\nSuite Holberg op.40 pour cordes de Edvard Grieg \nChœur et Orchestre Note et Bien\nDirection du chœur : Denis Thuillier\nDirection de l’orchestre à cordes : Johannes Le Pennec \nRÉSERVER POUR LE CONCERT DU DIMANCHE 13 JUIN…
URL:https://www.note-et-bien.org/event/note-et-bien-concert-du-13-juin-2021/
CATEGORIES:concerts
END:VEVENT
END:VCALENDAR