BEGIN:VCALENDAR
VERSION:2.0
PRODID:-//Note et Bien - Chœur et Orchestre - ECPv6.15.20//NONSGML v1.0//EN
CALSCALE:GREGORIAN
METHOD:PUBLISH
X-ORIGINAL-URL:https://www.note-et-bien.org
X-WR-CALDESC:Évènements pour Note et Bien - Chœur et Orchestre
REFRESH-INTERVAL;VALUE=DURATION:PT1H
X-Robots-Tag:noindex
X-PUBLISHED-TTL:PT1H
BEGIN:VTIMEZONE
TZID:Europe/Paris
BEGIN:DAYLIGHT
TZOFFSETFROM:+0100
TZOFFSETTO:+0200
TZNAME:CEST
DTSTART:20200329T010000
END:DAYLIGHT
BEGIN:STANDARD
TZOFFSETFROM:+0200
TZOFFSETTO:+0100
TZNAME:CET
DTSTART:20201025T010000
END:STANDARD
BEGIN:DAYLIGHT
TZOFFSETFROM:+0100
TZOFFSETTO:+0200
TZNAME:CEST
DTSTART:20210328T010000
END:DAYLIGHT
BEGIN:STANDARD
TZOFFSETFROM:+0200
TZOFFSETTO:+0100
TZNAME:CET
DTSTART:20211031T010000
END:STANDARD
BEGIN:DAYLIGHT
TZOFFSETFROM:+0100
TZOFFSETTO:+0200
TZNAME:CEST
DTSTART:20220327T010000
END:DAYLIGHT
BEGIN:STANDARD
TZOFFSETFROM:+0200
TZOFFSETTO:+0100
TZNAME:CET
DTSTART:20221030T010000
END:STANDARD
END:VTIMEZONE
BEGIN:VEVENT
DTSTART;TZID=Europe/Paris:20211208T203000
DTEND;TZID=Europe/Paris:20211208T223000
DTSTAMP:20260423T052540
CREATED:20211024T202216Z
LAST-MODIFIED:20211024T202216Z
UID:14702-1638995400-1639002600@www.note-et-bien.org
SUMMARY:Note et Bien - Concert du 8 décembre 2021
DESCRIPTION:La Traviata\nOpéra de G. Verdi \nChœur et Orchestre Note et Bien\nDirection : Thibault BACK de SURANY \nAu profit de l’association \nLes petits doudous de l’hôpital Trousseau \n 
URL:https://www.note-et-bien.org/event/note-et-bien-concert-du-8-decembre-2021/
CATEGORIES:concerts
END:VEVENT
BEGIN:VEVENT
DTSTART;TZID=Europe/Paris:20211211T203000
DTEND;TZID=Europe/Paris:20211211T230000
DTSTAMP:20260423T052540
CREATED:20211024T202608Z
LAST-MODIFIED:20211024T202608Z
UID:14705-1639254600-1639263600@www.note-et-bien.org
SUMMARY:Note et Bien - Concert du 11 décembre 2021
DESCRIPTION:La Traviata\nOpéra de G. Verdi \nChœur et Orchestre Note et Bien\nDirection : Thibault BACK de SURANY \nAu profit de l’association \nLes Amis de Dédougou
URL:https://www.note-et-bien.org/event/note-et-bien-concert-du-11-decembre-2021/
CATEGORIES:concerts
END:VEVENT
BEGIN:VEVENT
DTSTART;TZID=Europe/Paris:20211212T160000
DTEND;TZID=Europe/Paris:20211212T190000
DTSTAMP:20260423T052540
CREATED:20211024T203206Z
LAST-MODIFIED:20211024T203206Z
UID:14708-1639324800-1639335600@www.note-et-bien.org
SUMMARY:Note et Bien - Concert du 12 décembre 2021
DESCRIPTION:La Traviata\nOpéra de G. Verdi \nChœur et Orchestre Note et Bien\nDirection : Thibault BACK de SURANY \nAu profit des œuvres du Rotary Club de Chevreuse et sa vallée \n 
URL:https://www.note-et-bien.org/event/note-et-bien-concert-du-12-decembre-2021/
CATEGORIES:concerts
END:VEVENT
END:VCALENDAR