BEGIN:VCALENDAR
VERSION:2.0
PRODID:-//Note et Bien - Chœur et Orchestre - ECPv6.15.20//NONSGML v1.0//EN
CALSCALE:GREGORIAN
METHOD:PUBLISH
X-ORIGINAL-URL:https://www.note-et-bien.org
X-WR-CALDESC:Évènements pour Note et Bien - Chœur et Orchestre
REFRESH-INTERVAL;VALUE=DURATION:PT1H
X-Robots-Tag:noindex
X-PUBLISHED-TTL:PT1H
BEGIN:VTIMEZONE
TZID:Europe/Paris
BEGIN:DAYLIGHT
TZOFFSETFROM:+0100
TZOFFSETTO:+0200
TZNAME:CEST
DTSTART:20210328T010000
END:DAYLIGHT
BEGIN:STANDARD
TZOFFSETFROM:+0200
TZOFFSETTO:+0100
TZNAME:CET
DTSTART:20211031T010000
END:STANDARD
BEGIN:DAYLIGHT
TZOFFSETFROM:+0100
TZOFFSETTO:+0200
TZNAME:CEST
DTSTART:20220327T010000
END:DAYLIGHT
BEGIN:STANDARD
TZOFFSETFROM:+0200
TZOFFSETTO:+0100
TZNAME:CET
DTSTART:20221030T010000
END:STANDARD
BEGIN:DAYLIGHT
TZOFFSETFROM:+0100
TZOFFSETTO:+0200
TZNAME:CEST
DTSTART:20230326T010000
END:DAYLIGHT
BEGIN:STANDARD
TZOFFSETFROM:+0200
TZOFFSETTO:+0100
TZNAME:CET
DTSTART:20231029T010000
END:STANDARD
END:VTIMEZONE
BEGIN:VEVENT
DTSTART;TZID=Europe/Paris:20221208T203000
DTEND;TZID=Europe/Paris:20221208T223000
DTSTAMP:20260422T140231
CREATED:20221119T170822Z
LAST-MODIFIED:20221119T170822Z
UID:16397-1670531400-1670538600@www.note-et-bien.org
SUMMARY:Note et Bien – Concert du 8 décembre 2022
DESCRIPTION:SCHUMANN – Symphonie n°1 « Le Printemps »\nSCHUMANN – Requiem für Mignon\nBRAHMS – Nänie\nBRAHMS – Schicksalslied\n \nCHŒUR ET ORCHESTRE NOTE ET BIEN\nDirection : Thibault BACK DE SURANY\nChef de chœur : Denis THUILLIER
URL:https://www.note-et-bien.org/event/note-et-bien-concert-du-8-decembre-2022/
CATEGORIES:concerts
END:VEVENT
BEGIN:VEVENT
DTSTART;TZID=Europe/Paris:20221210T203000
DTEND;TZID=Europe/Paris:20221210T223000
DTSTAMP:20260422T140231
CREATED:20221119T171024Z
LAST-MODIFIED:20221119T171024Z
UID:16400-1670704200-1670711400@www.note-et-bien.org
SUMMARY:Note et Bien – Concert du 10 décembre 2022
DESCRIPTION:SCHUMANN – Symphonie n°1 « Le Printemps »\nSCHUMANN – Requiem für Mignon\nBRAHMS – Nänie\nBRAHMS – Schicksalslied \nCHŒUR ET ORCHESTRE NOTE ET BIEN\nDirection : Thibault BACK DE SURANY\nChef de chœur : Denis THUILLIER
URL:https://www.note-et-bien.org/event/note-et-bien-concert-du-10-decembre-2022/
CATEGORIES:concerts
END:VEVENT
BEGIN:VEVENT
DTSTART;TZID=Europe/Paris:20221211T160000
DTEND;TZID=Europe/Paris:20221211T180000
DTSTAMP:20260422T140231
CREATED:20221119T171231Z
LAST-MODIFIED:20221119T171231Z
UID:16402-1670774400-1670781600@www.note-et-bien.org
SUMMARY:Note et Bien – Concert du 11 décembre 2022
DESCRIPTION:SCHUMANN – Symphonie n°1 « Le Printemps »\nSCHUMANN – Requiem für Mignon\nBRAHMS – Nänie\nBRAHMS – Schicksalslied \nCHŒUR ET ORCHESTRE NOTE ET BIEN\nDirection : Thibault BACK DE SURANY\nChef de chœur : Denis THUILLIER
URL:https://www.note-et-bien.org/event/note-et-bien-concert-du-11-decembre-2022/
CATEGORIES:concerts
END:VEVENT
END:VCALENDAR