BEGIN:VCALENDAR
VERSION:2.0
PRODID:-//Note et Bien - Chœur et Orchestre - ECPv6.15.20//NONSGML v1.0//EN
CALSCALE:GREGORIAN
METHOD:PUBLISH
X-WR-CALNAME:Note et Bien - Chœur et Orchestre
X-ORIGINAL-URL:https://www.note-et-bien.org
X-WR-CALDESC:Évènements pour Note et Bien - Chœur et Orchestre
REFRESH-INTERVAL;VALUE=DURATION:PT1H
X-Robots-Tag:noindex
X-PUBLISHED-TTL:PT1H
BEGIN:VTIMEZONE
TZID:Europe/Paris
BEGIN:DAYLIGHT
TZOFFSETFROM:+0100
TZOFFSETTO:+0200
TZNAME:CEST
DTSTART:20230326T010000
END:DAYLIGHT
BEGIN:STANDARD
TZOFFSETFROM:+0200
TZOFFSETTO:+0100
TZNAME:CET
DTSTART:20231029T010000
END:STANDARD
BEGIN:DAYLIGHT
TZOFFSETFROM:+0100
TZOFFSETTO:+0200
TZNAME:CEST
DTSTART:20240331T010000
END:DAYLIGHT
BEGIN:STANDARD
TZOFFSETFROM:+0200
TZOFFSETTO:+0100
TZNAME:CET
DTSTART:20241027T010000
END:STANDARD
BEGIN:DAYLIGHT
TZOFFSETFROM:+0100
TZOFFSETTO:+0200
TZNAME:CEST
DTSTART:20250330T010000
END:DAYLIGHT
BEGIN:STANDARD
TZOFFSETFROM:+0200
TZOFFSETTO:+0100
TZNAME:CET
DTSTART:20251026T010000
END:STANDARD
END:VTIMEZONE
BEGIN:VEVENT
DTSTART;TZID=Europe/Paris:20240314T210000
DTEND;TZID=Europe/Paris:20240314T230000
DTSTAMP:20260421T192148
CREATED:20240203T062525Z
LAST-MODIFIED:20240203T062525Z
UID:18134-1710450000-1710457200@www.note-et-bien.org
SUMMARY:Note et Bien - Concert du 14 mars 2024
DESCRIPTION:“L’Europe romantique”\nŒuvres pour chœur a cappella\nELGAR\, GRIEG\, SAINT-SAËNS\,\nBRUCKNER\, WOOD\, MAHLER \nBRUCKNER\n9ème Symphonie \nChœur Note et Bien\nDenis THUILLIER\, direction\n \nOrchestre Note et Bien\nThibault BACK DE SURANY\, direction\n \nParticipation libre au profit de\nMus’Hope – De la musique en établissement de santé
URL:https://www.note-et-bien.org/event/note-et-bien-concert-du-14-mars-2024/
CATEGORIES:choeur,concerts,orchestre
END:VEVENT
BEGIN:VEVENT
DTSTART;TZID=Europe/Paris:20240316T203000
DTEND;TZID=Europe/Paris:20240316T230000
DTSTAMP:20260421T192148
CREATED:20240203T062740Z
LAST-MODIFIED:20240203T062740Z
UID:18136-1710621000-1710630000@www.note-et-bien.org
SUMMARY:Note et Bien - Concert du 16 mars 2024
DESCRIPTION:“L’Europe romantique”\nŒuvres pour chœur a cappella\nELGAR\, GRIEG\, SAINT-SAËNS\,\nBRUCKNER\, WOOD\, MAHLER \nBRUCKNER\n9ème Symphonie \nChœur Note et Bien\nDenis THUILLIER\, direction\n \nOrchestre Note et Bien\nThibault BACK DE SURANY\, direction\n \nParticipation libre au profit de\nFondation Falret – Aide aux personnes en souffrance psychique
URL:https://www.note-et-bien.org/event/note-et-bien-concert-du-16-mars-2024/
CATEGORIES:choeur,concerts,orchestre
END:VEVENT
BEGIN:VEVENT
DTSTART;TZID=Europe/Paris:20240317T160000
DTEND;TZID=Europe/Paris:20240317T183000
DTSTAMP:20260421T192148
CREATED:20240203T063046Z
LAST-MODIFIED:20240203T063046Z
UID:18138-1710691200-1710700200@www.note-et-bien.org
SUMMARY:Note et Bien - Concert du 17 mars 2024
DESCRIPTION:“L’Europe romantique”\nŒuvres pour chœur a cappella\nELGAR\, GRIEG\, SAINT-SAËNS\,\nBRUCKNER\, WOOD\, MAHLER \nBRUCKNER\n9ème Symphonie \nChœur Note et Bien\nDenis THUILLIER\, direction\n \nOrchestre Note et Bien\nThibault BACK DE SURANY\, direction\n \nParticipation libre au profit de\nLes Canard’Z’Ailés – Un tracteur pour le village de Talaba au Tongo
URL:https://www.note-et-bien.org/event/note-et-bien-concert-du-17-mars-2024/
CATEGORIES:choeur,concerts,orchestre
END:VEVENT
END:VCALENDAR