BEGIN:VCALENDAR
VERSION:2.0
PRODID:-//Note et Bien - Chœur et Orchestre - ECPv6.15.20//NONSGML v1.0//EN
CALSCALE:GREGORIAN
METHOD:PUBLISH
X-WR-CALNAME:Note et Bien - Chœur et Orchestre
X-ORIGINAL-URL:https://www.note-et-bien.org
X-WR-CALDESC:Évènements pour Note et Bien - Chœur et Orchestre
REFRESH-INTERVAL;VALUE=DURATION:PT1H
X-Robots-Tag:noindex
X-PUBLISHED-TTL:PT1H
BEGIN:VTIMEZONE
TZID:Europe/Paris
BEGIN:DAYLIGHT
TZOFFSETFROM:+0100
TZOFFSETTO:+0200
TZNAME:CEST
DTSTART:20240331T010000
END:DAYLIGHT
BEGIN:STANDARD
TZOFFSETFROM:+0200
TZOFFSETTO:+0100
TZNAME:CET
DTSTART:20241027T010000
END:STANDARD
BEGIN:DAYLIGHT
TZOFFSETFROM:+0100
TZOFFSETTO:+0200
TZNAME:CEST
DTSTART:20250330T010000
END:DAYLIGHT
BEGIN:STANDARD
TZOFFSETFROM:+0200
TZOFFSETTO:+0100
TZNAME:CET
DTSTART:20251026T010000
END:STANDARD
BEGIN:DAYLIGHT
TZOFFSETFROM:+0100
TZOFFSETTO:+0200
TZNAME:CEST
DTSTART:20260329T010000
END:DAYLIGHT
BEGIN:STANDARD
TZOFFSETFROM:+0200
TZOFFSETTO:+0100
TZNAME:CET
DTSTART:20261025T010000
END:STANDARD
END:VTIMEZONE
BEGIN:VEVENT
DTSTART;TZID=Europe/Paris:20250612T210000
DTEND;TZID=Europe/Paris:20250612T230000
DTSTAMP:20260420T234646
CREATED:20250512T171331Z
LAST-MODIFIED:20250512T171331Z
UID:21265-1749762000-1749769200@www.note-et-bien.org
SUMMARY:Note et Bien - Concert du 12 juin 2025
DESCRIPTION:J.S. BACH\nCantate BWV 150 \nJ. BRAHMS\nSymphonie n°1 \nToni CATHERINE\, soprano\nChœur et Orchestre NOTE ET BIEN\nDirection : Bianca CHILLEMI \nCheffe de chœur : Angélique de BELLEFON
URL:https://www.note-et-bien.org/event/note-et-bien-concert-du-12-juin-2025/
CATEGORIES:concerts
END:VEVENT
BEGIN:VEVENT
DTSTART;TZID=Europe/Paris:20250614T210000
DTEND;TZID=Europe/Paris:20250614T230000
DTSTAMP:20260420T234646
CREATED:20250512T171451Z
LAST-MODIFIED:20250512T171451Z
UID:22424-1749934800-1749942000@www.note-et-bien.org
SUMMARY:Note et Bien - Concert du 14 juin 2025
DESCRIPTION:J.S. BACH\nCantate BWV 150 \nJ. BRAHMS\nSymphonie n°1 \nToni CATHERINE\, soprano\nChœur et Orchestre NOTE ET BIEN\nDirection : Bianca CHILLEMI \nCheffe de chœur : Angélique de BELLEFON
URL:https://www.note-et-bien.org/event/note-et-bien-concert-du-14-juin-2025/
CATEGORIES:concerts
END:VEVENT
BEGIN:VEVENT
DTSTART;TZID=Europe/Paris:20250615T153000
DTEND;TZID=Europe/Paris:20250615T173000
DTSTAMP:20260420T234646
CREATED:20250512T171553Z
LAST-MODIFIED:20250512T171553Z
UID:22425-1750001400-1750008600@www.note-et-bien.org
SUMMARY:Note et Bien - Concert du 15 juin 2025
DESCRIPTION:J.S. BACH\nCantate BWV 150 \nJ. BRAHMS\nSymphonie n°1 \nToni CATHERINE\, soprano\nChœur et Orchestre NOTE ET BIEN\nDirection : Bianca CHILLEMI \nCheffe de chœur : Angélique de BELLEFON
URL:https://www.note-et-bien.org/event/note-et-bien-concert-du-15-juin-2025/
CATEGORIES:concerts
END:VEVENT
END:VCALENDAR